BEGIN:VCALENDAR
VERSION:2.0
METHOD:PUBLISH
X-WR-CALNAME:Sunnyhills School |  February 01 2015- March 01 2015
PRODID:-//strange bird labs//Drupal iCal API//EN
BEGIN:VEVENT
DTSTAMP;VALUE=DATE-TIME:20180125T162512Z
DTSTART;VALUE=DATE-TIME:20150212T200000Z
DTEND;VALUE=DATE-TIME:20150212T233500Z
UID:http://www.sunnyhills.school.nz/senior-school-swimming-sports-st-kentigern-college-0
URL;VALUE=URI:http://www.sunnyhills.school.nz/senior-school-swimming-sports-st-kentigern-college-0
SUMMARY:Senior School Swimming Sports @ St Kentigern College
DESCRIPTION:<p>Senior School Swimming Sports @ St Kentigern College</p>
 
END:VEVENT
BEGIN:VEVENT
DTSTAMP;VALUE=DATE-TIME:20180125T162512Z
DTSTART;VALUE=DATE-TIME:20150215T180000Z
DTEND;VALUE=DATE-TIME:20150215T180000Z
UID:http://www.sunnyhills.school.nz/7pm-bot-meeting-0
URL;VALUE=URI:http://www.sunnyhills.school.nz/7pm-bot-meeting-0
SUMMARY:7p.m. BOT Meeting
END:VEVENT
END:VCALENDAR
