BEGIN:VCALENDAR
VERSION:2.0
METHOD:PUBLISH
X-WR-CALNAME:Sunnyhills School |  June 01 2015- July 01 2015
PRODID:-//strange bird labs//Drupal iCal API//EN
BEGIN:VEVENT
DTSTAMP;VALUE=DATE-TIME:20180123T150952Z
DTSTART;VALUE=DATE-TIME:20150602T200000Z
DTEND;VALUE=DATE-TIME:20150602T200000Z
UID:http://www.sunnyhills.school.nz/icas-science-yr-4-to-yr-6
URL;VALUE=URI:http://www.sunnyhills.school.nz/icas-science-yr-4-to-yr-6
SUMMARY:ICAS Science-Yr. 4 to Yr. 6
DESCRIPTION:<p>ICAS Science-Yr. 4 to Yr. 6</p>
 
END:VEVENT
BEGIN:VEVENT
DTSTAMP;VALUE=DATE-TIME:20180123T150952Z
DTSTART;VALUE=DATE-TIME:20150614T200000Z
DTEND;VALUE=DATE-TIME:20150614T200000Z
UID:http://www.sunnyhills.school.nz/icas-writing-yr5-6-by-invite-only
URL;VALUE=URI:http://www.sunnyhills.school.nz/icas-writing-yr5-6-by-invite-only
SUMMARY:ICAS Writing-Yr.5 & 6 by invite only
DESCRIPTION:<p>ICAS Writing-Yr.5 &amp\; 6 by invite only</p>
 
END:VEVENT
BEGIN:VEVENT
DTSTAMP;VALUE=DATE-TIME:20180123T150952Z
DTSTART;VALUE=DATE-TIME:20150615T200000Z
DTEND;VALUE=DATE-TIME:20150615T200000Z
UID:http://www.sunnyhills.school.nz/icas-spelling-yr4-to-yr-6
URL;VALUE=URI:http://www.sunnyhills.school.nz/icas-spelling-yr4-to-yr-6
SUMMARY:ICAS Spelling-Yr.4 to Yr. 6
DESCRIPTION:<p>ICAS Spelling-Yr.4 to Yr. 6</p>
 
END:VEVENT
BEGIN:VEVENT
DTSTAMP;VALUE=DATE-TIME:20180123T150952Z
DTSTART;VALUE=DATE-TIME:20150617T053000Z
DTEND;VALUE=DATE-TIME:20150617T053000Z
UID:http://www.sunnyhills.school.nz/parents-pre-school-evening-0
URL;VALUE=URI:http://www.sunnyhills.school.nz/parents-pre-school-evening-0
SUMMARY:Parents Pre-School Evening
DESCRIPTION:<p>Parents Pre-School Evening</p>
 
END:VEVENT
BEGIN:VEVENT
DTSTAMP;VALUE=DATE-TIME:20180123T150952Z
DTSTART;VALUE=DATE-TIME:20150628T180000Z
DTEND;VALUE=DATE-TIME:20150628T180000Z
UID:http://www.sunnyhills.school.nz/7pm-bot-meeting-4
URL;VALUE=URI:http://www.sunnyhills.school.nz/7pm-bot-meeting-4
SUMMARY:7pm BOT Meeting
END:VEVENT
END:VCALENDAR
