BEGIN:VCALENDAR
VERSION:2.0
METHOD:PUBLISH
X-WR-CALNAME:Sunnyhills School |  July 01 2015- August 01 2015
PRODID:-//strange bird labs//Drupal iCal API//EN
BEGIN:VEVENT
DTSTAMP;VALUE=DATE-TIME:20180123T081213Z
DTSTART;VALUE=DATE-TIME:20150726T180000Z
DTEND;VALUE=DATE-TIME:20150726T180000Z
UID:http://www.sunnyhills.school.nz/7pm-bot-meeting-3
URL;VALUE=URI:http://www.sunnyhills.school.nz/7pm-bot-meeting-3
SUMMARY:7pm BOT Meeting
END:VEVENT
BEGIN:VEVENT
DTSTAMP;VALUE=DATE-TIME:20180123T081213Z
DTSTART;VALUE=DATE-TIME:20150727T200000Z
DTEND;VALUE=DATE-TIME:20150727T200000Z
UID:http://www.sunnyhills.school.nz/icas-english-yr-4-to-yr-6
URL;VALUE=URI:http://www.sunnyhills.school.nz/icas-english-yr-4-to-yr-6
SUMMARY:ICAS English-Yr. 4 to Yr. 6
DESCRIPTION:<p>ICAS English-Yr. 4 to Yr. 6</p>
 
END:VEVENT
END:VCALENDAR
