BEGIN:VCALENDAR
VERSION:2.0
METHOD:PUBLISH
X-WR-CALNAME:Sunnyhills School |  August 01 2015- September 01 2015
PRODID:-//strange bird labs//Drupal iCal API//EN
BEGIN:VEVENT
DTSTAMP;VALUE=DATE-TIME:20180123T080838Z
DTSTART;VALUE=DATE-TIME:20150810T200000Z
DTEND;VALUE=DATE-TIME:20150810T200000Z
UID:http://www.sunnyhills.school.nz/icas-mathematics-yr-4-to-yr-6
URL;VALUE=URI:http://www.sunnyhills.school.nz/icas-mathematics-yr-4-to-yr-6
SUMMARY:ICAS Mathematics-Yr. 4 to Yr. 6
DESCRIPTION:<p>ICAS Mathematics-Yr. 4 to Yr. 6</p>
 
END:VEVENT
BEGIN:VEVENT
DTSTAMP;VALUE=DATE-TIME:20180123T080838Z
DTSTART;VALUE=DATE-TIME:20150819T053000Z
DTEND;VALUE=DATE-TIME:20150819T053000Z
UID:http://www.sunnyhills.school.nz/parents-pre-school-evening-1
URL;VALUE=URI:http://www.sunnyhills.school.nz/parents-pre-school-evening-1
SUMMARY:Parents Pre-School Evening
DESCRIPTION:<p>Parents Pre-School Evening</p>
 
END:VEVENT
BEGIN:VEVENT
DTSTAMP;VALUE=DATE-TIME:20180123T080838Z
DTSTART;VALUE=DATE-TIME:20150823T180000Z
DTEND;VALUE=DATE-TIME:20150823T180000Z
UID:http://www.sunnyhills.school.nz/7pm-bot-meeting-5
URL;VALUE=URI:http://www.sunnyhills.school.nz/7pm-bot-meeting-5
SUMMARY:7pm BOT Meeting
END:VEVENT
END:VCALENDAR
