BEGIN:VCALENDAR
VERSION:2.0
METHOD:PUBLISH
X-WR-CALNAME:Sunnyhills School |  September 01 2015- October 01 2015
PRODID:-//strange bird labs//Drupal iCal API//EN
BEGIN:VEVENT
DTSTAMP;VALUE=DATE-TIME:20180123T080525Z
DTSTART;VALUE=DATE-TIME:20150920T180000Z
DTEND;VALUE=DATE-TIME:20150920T180000Z
UID:http://www.sunnyhills.school.nz/7pm-bot-meeting-6
URL;VALUE=URI:http://www.sunnyhills.school.nz/7pm-bot-meeting-6
SUMMARY:7pm BOT Meeting
END:VEVENT
END:VCALENDAR
