BEGIN:VCALENDAR
VERSION:2.0
METHOD:PUBLISH
X-WR-CALNAME:Sunnyhills School |  October 01 2015- November 01 2015
PRODID:-//strange bird labs//Drupal iCal API//EN
BEGIN:VEVENT
DTSTAMP;VALUE=DATE-TIME:20180123T080258Z
DTSTART;VALUE=DATE-TIME:20151018T180000Z
DTEND;VALUE=DATE-TIME:20151018T180000Z
UID:http://www.sunnyhills.school.nz/7pm-bot-meeting-7
URL;VALUE=URI:http://www.sunnyhills.school.nz/7pm-bot-meeting-7
SUMMARY:7pm BOT Meeting
END:VEVENT
BEGIN:VEVENT
DTSTAMP;VALUE=DATE-TIME:20180123T080258Z
DTSTART;VALUE=DATE-TIME:20151028T053000Z
DTEND;VALUE=DATE-TIME:20151028T053000Z
UID:http://www.sunnyhills.school.nz/parents-pre-school-evening-2
URL;VALUE=URI:http://www.sunnyhills.school.nz/parents-pre-school-evening-2
SUMMARY:Parents Pre-School Evening
DESCRIPTION:<p>Parents Pre-School Evening</p>
 
END:VEVENT
END:VCALENDAR
