BEGIN:VCALENDAR
VERSION:2.0
METHOD:PUBLISH
X-WR-CALNAME:Sunnyhills School |  November 01 2015- December 01 2015
PRODID:-//strange bird labs//Drupal iCal API//EN
BEGIN:VEVENT
DTSTAMP;VALUE=DATE-TIME:20180123T080053Z
DTSTART;VALUE=DATE-TIME:20151129T180000Z
DTEND;VALUE=DATE-TIME:20151129T180000Z
UID:http://www.sunnyhills.school.nz/7pm-bot-meeting-8
URL;VALUE=URI:http://www.sunnyhills.school.nz/7pm-bot-meeting-8
SUMMARY:7pm BOT Meeting
END:VEVENT
END:VCALENDAR
