BEGIN:VCALENDAR
VERSION:2.0
METHOD:PUBLISH
X-WR-CALNAME:Sunnyhills School |  December 01 2015- January 01 2016
PRODID:-//strange bird labs//Drupal iCal API//EN
BEGIN:VEVENT
DTSTAMP;VALUE=DATE-TIME:20180123T080010Z
DTSTART;VALUE=DATE-TIME:20151214T200000Z
DTEND;VALUE=DATE-TIME:20151214T200000Z
UID:http://www.sunnyhills.school.nz/fun-day-1
URL;VALUE=URI:http://www.sunnyhills.school.nz/fun-day-1
SUMMARY:FUN DAY
DESCRIPTION:<p>FUN DAY</p>
 
END:VEVENT
END:VCALENDAR
